BEGIN:VCALENDAR
VERSION:2.0
PRODID:-//Yoga mit Mel - ECPv6.15.20//NONSGML v1.0//EN
CALSCALE:GREGORIAN
METHOD:PUBLISH
X-ORIGINAL-URL:https://yogamitmel.com
X-WR-CALDESC:Veranstaltungen für Yoga mit Mel
REFRESH-INTERVAL;VALUE=DURATION:PT1H
X-Robots-Tag:noindex
X-PUBLISHED-TTL:PT1H
BEGIN:VTIMEZONE
TZID:UTC
BEGIN:STANDARD
TZOFFSETFROM:+0000
TZOFFSETTO:+0000
TZNAME:UTC
DTSTART:20250101T000000
END:STANDARD
END:VTIMEZONE
BEGIN:VEVENT
DTSTART;TZID=UTC:20260321T093000
DTEND;TZID=UTC:20260321T123000
DTSTAMP:20260425T124023
CREATED:20251216T112226Z
LAST-MODIFIED:20251216T200046Z
UID:7286-1774085400-1774096200@yogamitmel.com
SUMMARY:Rise & Flow - Dein Yoga Special im März
DESCRIPTION:Ein Vormittag um mit Energie\, Kraft & Leichtigkeit in den Frühling zu starten \nDer Frühling steht für Neubeginn\, Bewegung und frische Energie. Nach den ruhigeren Wintermonaten ist dies die Zeit\, in der sich Körper und Geist wieder aktiv ausrichten möchten. \nIn der Yogatradition und im Ayurveda spielen Kriyas – reinigende & aktivierende Praktiken – gerade im Frühjahr eine besondere Rolle. Sie helfen dabei\, stagnierende Energie zu lösen\, den Körper beim Reinigen und Erneuern zu unterstützen und ihn auf Aktivität und Wachstum vorzubereiten. \nRise & Flow greift genau diese Qualität auf und verbindet sie mit einer kraftvollen\, fließenden Pranayama- & Yogapraxis. \nDas erwartet Dich bei Rise & Flow:  \n\nAyurvedischer Tee zum Ankommen\nAyurvedischer Impuls fürs Frühjahr\nEnergy Flow Breath als eine kraftvolle Atemreise\, die Energie ins Fließen bringt\, den Wintermood vertreibt & dich klarer denken lässt\nFlow to Strength als ein dynamischer Vinyasa Flow\, der deinen Körper aktiviert und dich Schritt für Schritt in eine Armbalance führt\nJournaling zum Reflektieren\, Integrieren & neue Intentionen setzen\n\n  \n \n  \nDas Rise & Flow Yoga Special ist perfekt für Dich: \n\nwenn du dir mehr Kraft\, Balance und Energie im Frühjahr wünschst\nwenn du Lust auf Flow & fließende Bewegungen hast\nwenn du Ayurveda\, Atemarbeit und Journaling als Inspiration für deinen Alltag erleben möchtest\n\n  \nDeine Investition in Dich: 45€ \nRise & Flow ist eine Einladung\, dich mit deiner Kraft zu verbinden\, stagnierende Energie ins Fließen zu bringen und mit Klarheit & Leichtigkeit in den Frühling zu starten. Melde dich gleich zu deinem Yoga Special an! \nDu möchtest dich Anmelden oder hast Fragen zum Event?\nDEIN NAME *DEINE E-MAIL *BETREFF *DEINE NACHRICHT *Absenden×Dankeschön für deine Nachricht. Du wirst bald von mir hören.×Leider ist ein Fehler beim Senden deiner Nachricht aufgetreten. Bitte probier es zu einem späteren Zeitpunkt nochmal.
URL:https://yogamitmel.com/event/rise-flow-dein-yoga-special-im-maerz
LOCATION:Fitness Eleven\, Bayreuther Str. 11\, Marktredwitz\, 95615\, Deutschland
CATEGORIES:Ayurveda,Workshop
ATTACH;FMTTYPE=image/png:https://yogamitmel.com/wp-content/uploads/2025/12/Vinyasa-e1765883012486.png
ORGANIZER;CN="Yoga mit Mel":MAILTO:info@yogamitmel.com
END:VEVENT
END:VCALENDAR