BEGIN:VCALENDAR
VERSION:2.0
PRODID:-//Yoga mit Mel - ECPv6.15.20//NONSGML v1.0//EN
CALSCALE:GREGORIAN
METHOD:PUBLISH
X-ORIGINAL-URL:https://yogamitmel.com
X-WR-CALDESC:Veranstaltungen für Yoga mit Mel
REFRESH-INTERVAL;VALUE=DURATION:PT1H
X-Robots-Tag:noindex
X-PUBLISHED-TTL:PT1H
BEGIN:VTIMEZONE
TZID:UTC
BEGIN:STANDARD
TZOFFSETFROM:+0000
TZOFFSETTO:+0000
TZNAME:UTC
DTSTART:20250101T000000
END:STANDARD
END:VTIMEZONE
BEGIN:VEVENT
DTSTART;TZID=UTC:20260801T080000
DTEND;TZID=UTC:20260801T160000
DTSTAMP:20260425T144354
CREATED:20201216T091950Z
LAST-MODIFIED:20250911T123252Z
UID:5029-1785571200-1785600000@yogamitmel.com
SUMMARY:Yoga & Wandern im Fichtelgebirge "Free your Mind"
DESCRIPTION:„Free your Mind“ – Achtsamkeit im Hier & Jetzt\nFühl dich eingeladen zu einem Tag im Grünen voller Präsenz\, Klarheit und innerer Freiheit. Im Hier & Jetzt zu sein bedeutet\, den Moment in seiner ganzen Fülle zu erleben\, ohne dass Gedanken an Vergangenes oder Zukünftiges dich ablenken. Und das ist gar nicht so leicht – I know! Denn genau hier\, im gegenwärtigen Augenblick\, liegt der wertvollste Moment\, den wir haben: Das JETZT! \nDurch Yoga\, Meditation & Achtsamkeitsübungen lernst du\, im Jetzt anzukommen: die frische Luft einzuatmen\, die Farben und Geräusche der Natur wahrzunehmen\, den eigenen Körper zu spüren und Gedanken bewusst zu beobachten\, ohne sich von ihnen mitreißen zu lassen. \n  \n„Der gegenwärtige Moment ist voller Glück und Freude\, wenn du aufmerksam bist wirst du es sehen.“ ♥ \n– Thich Nhat Hanh – \n  \nDein Tag beginnt mit einer sanften Yogaeinheit am wunderschönen Fichtelsee. Wir aktivieren unseren Körper und unsere Sinne\, um bewusst in den Tag zu starten. Im Laufe des Tages nehmen wir uns Zeit für eine geführte Meditation und Sinnesübungen\, um im Hier & Jetzt anzukommen und unseren „Monkey Mind“ zu beruhigen. Gegen Ende unserer Tour erwartet dich eine sanfte\, regenerative Yogastunde\, die dich erdet und im Moment\, bei dir Selbst\, ankommen lässt. \nDas erwartet Dich bei Yoga & Wandern im Fichtelgebirge „Free your Mind“:\n\nKörperliche Bewegung & Entspannung\nAchtsamkeit & Naturerfahrung\nSinnesübungen\, die dir helfen im Hier & Jetzt anzukommen\nJournaling-Impulse für die Selbstreflexion\nca. 10km lange Rundwanderung über Fichtelsee\, Platten- & Nusshardtgipfel (4 Stunden reine Gehzeit & 300hm Aufstieg)\n\n\nPraktisches auf einen Blick:\n\nSamstag\, 01.08.2026 von 8 bis 16:00Uhr\nTreffpunkt: Seehaus-Parkplatz an der B303\nInklusive: 2 Yogaeinheiten\, 1 Meditationseinheit\, Geführte Wanderung\nNicht inklusive: Anreise\, Verpflegung\nMindestteilnehmerzahl: 4 Personen\nMaximalteilnehmerzahl:  8 Personen\nPreis: 79€ (Early Bird Special bei Buchung bis 28.02.2026 69€)\n\n  \nYoga & Wandern im Fichtelgebirge „Free your Mind“ ist für dich\, wenn du\n\nden Lärm des Alltags für einen Tag hinter dir lassen möchtest\ndie Natur nicht nur durchwandern\, sondern bewusst erleben möchtest\nlernen möchtest mehr im Moment präsent zu sein\ndir selbst durch Yoga\, Meditation und sanfte Achtsamkeit näherkommen willst\n\nKleiner Tipp: Du musst weder mit Yoga noch mit Meditation vertraut sein um mitzuwandern. \nDieser Tag schenkt dir die Möglichkeit zur Ruhe zu kommen\, Kraft zu tanken und den wertvollsten Moment den wir haben zu genießen. Und das ist das JETZT. Yoga & Wandern im Fichtelgebirge ist wie ein Day Retreat mitten in der Natur nur für Dich! \nDu möchtest dich Anmelden oder mehr Infos?\nDEIN NAME *DEINE E-MAIL *BETREFF *DEINE NACHRICHT *Absenden×Dankeschön für deine Nachricht. Du wirst bald von mir hören.×Leider ist ein Fehler beim Senden deiner Nachricht aufgetreten. Bitte probier es zu einem späteren Zeitpunkt nochmal.
URL:https://yogamitmel.com/event/yoga-wandern-im-fichtelgebirge-free-your-mind
LOCATION:Parkplatz Seehaus\, B303\, Neubauer Forst\, Bayern\, 95686\, Deutschland
CATEGORIES:Yoga & Wandern
ATTACH;FMTTYPE=image/jpeg:https://yogamitmel.com/wp-content/uploads/2020/12/lake-5517727_1280-e1757593121681.jpg
ORGANIZER;CN="Yoga mit Mel":MAILTO:info@yogamitmel.com
END:VEVENT
END:VCALENDAR