BEGIN:VCALENDAR
VERSION:2.0
PRODID:-//Yoga mit Mel - ECPv6.15.20//NONSGML v1.0//EN
CALSCALE:GREGORIAN
METHOD:PUBLISH
X-ORIGINAL-URL:https://yogamitmel.com
X-WR-CALDESC:Veranstaltungen für Yoga mit Mel
REFRESH-INTERVAL;VALUE=DURATION:PT1H
X-Robots-Tag:noindex
X-PUBLISHED-TTL:PT1H
BEGIN:VTIMEZONE
TZID:UTC
BEGIN:STANDARD
TZOFFSETFROM:+0000
TZOFFSETTO:+0000
TZNAME:UTC
DTSTART:20240101T000000
END:STANDARD
END:VTIMEZONE
BEGIN:VEVENT
DTSTART;TZID=UTC:20251102T130000
DTEND;TZID=UTC:20251102T150000
DTSTAMP:20260425T182549
CREATED:20210823T105543Z
LAST-MODIFIED:20250925T091502Z
UID:5437-1762088400-1762095600@yogamitmel.com
SUMMARY:Inside Flow & Chill in Flensburg
DESCRIPTION:„Lass dein Herz tanzen!“\nInside Flow & Chill in Flensburg ist für alle\, die sich gerne fließend ohne Anfang und Ende zu moderner Musik bewegen. Dynamisch und kraftvoll\, eine Symbiose aus Tradition und Evolution. In dieser Stunde wird eine Choreographie mit Asanas aufgebaut\, in der jede Atembewegung zu einer Körperbewegung führt. Eine Stunde im Fluss\, es gibt kein Anfang und kein Ende. Werde ganz eins mit dir\, mit deinem Atem und deinem Körper. Komme vom Denken ins Fühlen und spüre die Verbindung zu dir und der Musik. Gegen Ende erwartet dich eine sanfte\, regenerative Einheit zum Entspannen & Runterfahren. \nJust Move. Feel the Beat. Express your Yoga. Listen to your Heart. \nWir werden zusammen lachen\, schwitzen und über uns hinauswachsen\, pure Lebensfreude und Verbindung spüren. \nDu bist Vinyasa Yoga Lover? Du liebst es dich im Rhythmus zur Musik zu bewegen? Dann ist Inside Flow & Chill in Flensburg genau das Richtige für dich: Musik\, Bewegung und Atmung in einer einzigartigen Symbiose. \nLass dein Herz tanzen und melde dich gleich für Sonntag\, den 02.11.2025 um 13:00 Uhr bei der Yogaschule Flensburg an.  \nGoodie für Dich: Du bekommst ein Recording des Inside Flows gratis dazu! \nJetzt Anmelden bei Eversports
URL:https://yogamitmel.com/event/inside-flow-chill-in-flensburg
LOCATION:Yogaschule Flensburg\, Westerallee 155\, Flensburg\, 24941\, Germany
CATEGORIES:Workshop
ATTACH;FMTTYPE=image/jpeg:https://yogamitmel.com/wp-content/uploads/2021/08/Foto-10.10.19-14-04-16_3.jpg
ORGANIZER;CN="Yoga mit Mel":MAILTO:info@yogamitmel.com
END:VEVENT
BEGIN:VEVENT
DTSTART;TZID=UTC:20251116T140000
DTEND;TZID=UTC:20251116T170000
DTSTAMP:20260425T182549
CREATED:20251006T184722Z
LAST-MODIFIED:20251007T080322Z
UID:7237-1763301600-1763312400@yogamitmel.com
SUMMARY:Slow Down to Center - Dein Yoga Special im November
DESCRIPTION:Ein Nachmittag für bewusste Atmung\, innere Ruhe & mentale Klarheit \nWenn die Welt im Außen schneller wird\, verliert der Atem oft seinen natürlichen Rhythmus. Er wird flach\, unruhig und kaum spürbar. Das spiegelt sich dann auch in unserem Geist wieder – Hello Monkey Mind :). Gerade im bewegten Herbst fühle ich mich mehr „durch den Wind“ als zu den anderen Jahreszeiten\, kann mich schlechter fokussieren & konzentrieren. Bin rastlos und spüre so eine gewisse innere Unruhe. Was mir gerade in dieser Zeit des Jahres hilft\, ist langsamer zu machen und mich bewusst auf meinen Atem zu konzentrieren. Ihn zu einer Art Anker werden zu lassen. Ein Werkzeug\, um mein Nervensystem zu beruhigen\, Präsenz zu finden und wieder klar zu sehen. \n„Breath is the link between body & mind“ (Dan Brulé) \nSlow Down to Center ist eine Einladung für dich bewusst den Pausenknopf zu drücken. Dich über deinen Atem wieder zurück zu deiner Mitte zu führen. Denn genau da entsteht Ruhe\, Kraft & Balance. Drei Stunden zum Durchatmen\, Loslassen & Ankommen. Mit einer wohltuenden Mischung aus Yoga\, Atem Achtsamkeit & Ayurveda Vibes. \nErlebe bei Slow Down to Center:  \n\nAyurvedische Tee zum Ankommen\nAyurvedischer Impuls für die Herbstzeit\nSlow Flow to Yin als langsame\, fließende Yogapraxis\, die in entspannende erdende Yin Positionen übergeht\nBreath Wave Meditation als eine geführte Atemreise\, die dich ins Hier & Jetzt trägt\nJournaling für Atem Fokus\, Leichtigkeit & innere Ausrichtung\n\n  \n \n  \nDas Slow Down to Center Yoga Special ist für Dich: \n\nwenn du dir in dieser bewegten Jahreszeit mehr Ruhe & Zentrierung wünschst\nwenn du eine kleine Auszeit vom To-do-Flow brauchst und dich nach Stille & Entspannung sehnst\nwenn du lernen möchtest über den Atem dein inneres Gleichgewicht wiederzufinden\nwenn du Inspiration suchst\, wie du dich im Herbst wohlig und klar ausrichten kannst\n\n  \nDeine Investition in Dich: 45€ \nSchenke dir einen Nachmittag voller innerer Balance und Atem Präsenz. Slow Down to Center ist dein achtsames November Ritual für mentale Klarheit\, Entschleunigung & Entspannung. Melde dich gleich zu deinem Yoga Special an! \nDu möchtest dich Anmelden oder hast Fragen zum Retreat?\nDEIN NAME *DEINE E-MAIL *BETREFF *DEINE NACHRICHT *Absenden×Dankeschön für deine Nachricht. Du wirst bald von mir hören.×Leider ist ein Fehler beim Senden deiner Nachricht aufgetreten. Bitte probier es zu einem späteren Zeitpunkt nochmal.
URL:https://yogamitmel.com/event/slow-down-to-center-dein-yoga-special-im-november
LOCATION:Fitness Eleven\, Bayreuther Str. 11\, Marktredwitz\, 95615\, Deutschland
CATEGORIES:Ayurveda,Workshop
ATTACH;FMTTYPE=image/png:https://yogamitmel.com/wp-content/uploads/2025/10/Flow-to-Yin-e1759770385767.png
ORGANIZER;CN="Yoga mit Mel":MAILTO:info@yogamitmel.com
END:VEVENT
END:VCALENDAR