BEGIN:VCALENDAR
VERSION:2.0
PRODID:-//Yoga mit Mel - ECPv6.15.20//NONSGML v1.0//EN
CALSCALE:GREGORIAN
METHOD:PUBLISH
X-WR-CALNAME:Yoga mit Mel
X-ORIGINAL-URL:https://yogamitmel.com
X-WR-CALDESC:Veranstaltungen für Yoga mit Mel
REFRESH-INTERVAL;VALUE=DURATION:PT1H
X-Robots-Tag:noindex
X-PUBLISHED-TTL:PT1H
BEGIN:VTIMEZONE
TZID:UTC
BEGIN:STANDARD
TZOFFSETFROM:+0000
TZOFFSETTO:+0000
TZNAME:UTC
DTSTART:20250101T000000
END:STANDARD
END:VTIMEZONE
BEGIN:VEVENT
DTSTART;TZID=UTC:20260606T090000
DTEND;TZID=UTC:20260606T170000
DTSTAMP:20260425T110325
CREATED:20201216T070226Z
LAST-MODIFIED:20250917T104432Z
UID:5001-1780736400-1780765200@yogamitmel.com
SUMMARY:Yoga & Wandern im Fichtelgebirge "Feel your Body"
DESCRIPTION:„Feel your Body“ – Spüre deinen Körper\nEin Tag\, um bewusst im Körper anzukommen\, seine Kraft zu spüren und Herausforderungen anzunehmen. In unserem Alltag vergessen wir oft auf unseren Körper zu hören: Wir hetzen\, sitzen\, übersehen Signale von Müdigkeit\, Stress oder Verspannung. Wer lernt\, bewusst seinen Körper wahrzunehmen\, entdeckt nicht nur physische Kraft\, sondern auch innere Balance und Wohlbefinden. Körperwahrnehmung schafft Verbindung: zu sich selbst\, zur Natur und zum eigenen Leben.  \nBei dieser Tour wirst du deinen Körper durch Yoga\, bewegte Meditation & Gipfelbesteigungen spüren und stärken. Jeder Schritt und jeder Höhenmeter wird dich mehr und mehr in Verbindung mit dir Selbst und der Natur bringen. \n  \n„My Body is my Temple. Asanas are my Prayer“ ♥ \n– B.K.S.Iyengar – \n  \nDein Tag beginnt mit einer aktivierenden Yogaeinheit im Grünen um den Körper aufzuwecken und bewusst in den Tag zu starten. Im Laufe des Tages nehmen wir uns Zeit für eine Barfußmeditation auf dem Waldboden. Gegen Ende unserer Tour erwartet dich eine sanfte\, regenerative Yogastunde\, die dich erdet und im Moment\, bei dir Selbst\, ankommen lässt. \nDas erwartet Dich bei Yoga & Wandern im Fichtelgebirge „Feel your Body“:\n\nKörperliche Bewegung & Entspannung\nAchtsamkeit & Naturerfahrung\nYogaskills\, die dir helfen deinen Körper bewusst wahrzunehmen\nJournaling-Impulse für die Selbstreflexion\nca. 13km lange Rundwanderung über Rudolphstein- & Schneeberggipfel (4 Stunden reine Gehzeit & 500hm Aufstieg)\n\n\nPraktisches auf einen Blick:\n\nSamstag\, 06.06.2026 von 9 bis 17:00Uhr\nTreffpunkt: Wander Parkplatz Rudolphstein\nInklusive: 2 Yogaeinheiten\, 1 Meditationseinheit\, Geführte Wanderung\nNicht inklusive: Anreise\, Verpflegung\nMindestteilnehmerzahl: 4 Personen\nMaximalteilnehmerzahl:  8 Personen\nPreis: 79€ (Early Bird Special bei Buchung bis 28.02.2026 69€)\n\n  \nYoga & Wandern im Fichtelgebirge „Feel your Body“ ist für dich\, wenn du\n\nBewegung in der Natur mit Yoga & Meditation verbinden möchtest\ndich gestärkt\, präsent & verbunden mit deinen Körper fühlen möchtest\nHerausforderungen liebst & dafür deine Comfort Zone auch mal verlässt\n\nKleiner Tipp: Du musst weder mit Yoga noch mit Meditation vertraut sein um mitzuwandern. \nDieser Tag schenkt dir die Möglichkeit deinem Körper zuzuhören\, seine Stärke und Grenzen bewusst zu spüren und Dankbarkeit für alles zu entwickeln\, was er dir ermöglicht. Yoga & Wandern im Fichtelgebirge ist wie ein Day Retreat mitten in der Natur nur für Dich! \nDu möchtest dich Anmelden oder mehr Infos?\nDEIN NAME *DEINE E-MAIL *BETREFF *DEINE NACHRICHT *Absenden×Dankeschön für deine Nachricht. Du wirst bald von mir hören.×Leider ist ein Fehler beim Senden deiner Nachricht aufgetreten. Bitte probier es zu einem späteren Zeitpunkt nochmal.
URL:https://yogamitmel.com/event/yoga-wandern-im-fichtelgebirge-feel-your-body
LOCATION:Wander Parkplatz Rudolphstein\, Unnamed Road\, Weißenstadt\, 95163\, Germany
CATEGORIES:Yoga & Wandern
ATTACH;FMTTYPE=image/jpeg:https://yogamitmel.com/wp-content/uploads/2020/12/Foto-03.06.21-16-54-37_1-1.jpg
ORGANIZER;CN="Yoga mit Mel":MAILTO:info@yogamitmel.com
END:VEVENT
BEGIN:VEVENT
DTSTART;TZID=UTC:20260607T191500
DTEND;TZID=UTC:20260607T214500
DTSTAMP:20260425T110325
CREATED:20210623T062919Z
LAST-MODIFIED:20260314T091039Z
UID:5381-1780859700-1780868700@yogamitmel.com
SUMMARY:Sunset Yoga Flow am Epprechtstein
DESCRIPTION:„UND JEDER SONNENUNTERGANG ERINNERT MICH DARAN\, DASS EIN ENDE AUCH SCHÖN SEIN KANN.“\nBei diesem besonderen Yoga Special verbinden wir Bewegung\, Natur und Achtsamkeit. \nWir wandern gemeinsam zum Gipfel des Epprechtsteins im Fichtelgebirge. Nach 1\,2km und ca. 25 Minuten haben wir das Plateau unterhalb der Burg erreicht. Hier erwartet uns ein atemberaubender Blick über das Fichtelgebirge. Es ist mit einer meiner Lieblingsorte\, um den Tag in Ruhe ausklingen zu lassen. \nMitten in der Natur praktizieren wir einen sanften\, meditativen Slow Flow. Die fließenden Bewegungen und bewussten Atempausen helfen dir\, den Tag loszulassen und im Moment anzukommen. \n\nWährend die Sonne langsam untergeht\, nehmen wir uns Zeit für eine Reflexion & Dankbarkeitspraxis. Im Anschluss genießen wir einen warmen Gipfeltee\, bevor wir in der Abendstimmung wieder zurückwandern. \nDer Sunset Yoga Flow am Epprechtstein ist ein besonderes Yogaerlebnis in der Natur: ruhig\, bewusst & verbindend. \nDu möchtest dich anmelden oder mehr Infos? \nDEIN NAME *DEINE E-MAIL *BETREFF *DEINE NACHRICHT *Absenden×Dankeschön für deine Nachricht. Du wirst bald von mir hören.×Leider ist ein Fehler beim Senden deiner Nachricht aufgetreten. Bitte probier es zu einem späteren Zeitpunkt nochmal.
URL:https://yogamitmel.com/event/sunset-yoga-flow-am-epprechtstein
LOCATION:Unteres Buchhaus\, Buchhaus 3\, Kirchenlamitz\, 95158
CATEGORIES:Outdoor
ATTACH;FMTTYPE=image/jpeg:https://yogamitmel.com/wp-content/uploads/2021/06/konevi-sunset-3416768_1920.jpg
ORGANIZER;CN="Yoga mit Mel":MAILTO:info@yogamitmel.com
END:VEVENT
BEGIN:VEVENT
DTSTART;TZID=UTC:20260615T180000
DTEND;TZID=UTC:20260615T200000
DTSTAMP:20260425T110325
CREATED:20241030T153945Z
LAST-MODIFIED:20260212T105403Z
UID:6767-1781546400-1781553600@yogamitmel.com
SUMMARY:SUP Yoga am Feisnitzstausee
DESCRIPTION:„Dance with the waves\, move with the sea\, let the rhythm of water set your soul free“\nTausche deine Yogamatte gegen dein SUP Board und begebe dich mit mir aufs Wasser. SUP Yoga ist eine großartige Möglichkeit in den Sommermonaten ein wenig Abwechslung in deine Yogapraxis zu bringen\, was Neues zu probieren und ein bisschen Urlaubsfeeling im Alltag zu spüren. \nIn diesem 2-stündigen Event erwartet dich eine harmonische Mischung aus achtsamen Bewegungen\, Balanceübungen & einer Schlussentspannung. Du wirst sehen\, das Zusammenspiel von Entspannung\, Kraft und den schaukelnden Bewegungen des Wasser Elements ist ein einmaliges Erlebnis. Dabei trainierst du spielerisch deine Tiefenmuskulatur\, Konzentration & Fokus. \n \nDarauf darfst du dich freuen: \n\nKurze Einführung ins SUP & Sicherheitseinweisung\nEine achtsame Yogapraxis im Einklang mit dem Wasserelement\nAtemübungen unter freiem Himmel\neine geführte Endentspannung auf dem Wasser\nein vitaler „On Water“ Snack nach der Praxis\n\nDeine Investition in Dich: 35€ \nFür dieses Ganzkörpertraining brauchst du ein eigenes SUP Board (auch leihbar gegen einen Aufpreis von 15€)\, aber keine SUP Erfahrung oder Yogakenntnisse! Freue dich auf ein einzigartiges Yoga- & Natur-Erlebnis und das schönste Savasana aller Zeiten. Melde dich gleich für SUP Yoga am Feisnitzstausee an! \nDu möchtest dich anmelden? \nDEIN NAME *DEINE E-MAIL *BETREFF *DEINE NACHRICHT *Absenden×Dankeschön für deine Nachricht. Du wirst bald von mir hören.×Leider ist ein Fehler beim Senden deiner Nachricht aufgetreten. Bitte probier es zu einem späteren Zeitpunkt nochmal.
URL:https://yogamitmel.com/event/sup-yoga-am-feisnitzstausee-3
LOCATION:Feisnitzstausee\, Arzberg\, 95659\, Deutschland
CATEGORIES:Outdoor
ATTACH;FMTTYPE=image/jpeg:https://yogamitmel.com/wp-content/uploads/2024/02/image00021-scaled-e1730302768352.jpeg
ORGANIZER;CN="Yoga mit Mel":MAILTO:info@yogamitmel.com
END:VEVENT
END:VCALENDAR